BEGIN:VCALENDAR
VERSION:2.0
PRODID:-//phutsc - ECPv6.15.13//NONSGML v1.0//EN
CALSCALE:GREGORIAN
METHOD:PUBLISH
X-ORIGINAL-URL:https://phutsc.com
X-WR-CALDESC:Events for phutsc
REFRESH-INTERVAL;VALUE=DURATION:PT1H
X-Robots-Tag:noindex
X-PUBLISHED-TTL:PT1H
BEGIN:VTIMEZONE
TZID:Asia/Krasnoyarsk
BEGIN:STANDARD
TZOFFSETFROM:+0700
TZOFFSETTO:+0700
TZNAME:+07
DTSTART:20220101T000000
END:STANDARD
END:VTIMEZONE
BEGIN:VEVENT
DTSTART;TZID=Asia/Krasnoyarsk:20251027T133000
DTEND;TZID=Asia/Krasnoyarsk:20251027T163000
DTSTAMP:20260422T191424
CREATED:20251001T072557Z
LAST-MODIFIED:20251001T072640Z
UID:2210-1761571800-1761582600@phutsc.com
SUMMARY:ประชุมคณะกรรมการดำเนินการสหกรณ์ออมทรัพย์ชาวพฤหัสบดี จำกัด ชุดที่ 50 ครั้งที่ 8/2568
DESCRIPTION:
URL:https://phutsc.com/event/%e0%b8%9b%e0%b8%a3%e0%b8%b0%e0%b8%8a%e0%b8%b8%e0%b8%a1%e0%b8%84%e0%b8%93%e0%b8%b0%e0%b8%81%e0%b8%a3%e0%b8%a3%e0%b8%a1%e0%b8%81%e0%b8%b2%e0%b8%a3%e0%b8%94%e0%b8%b3%e0%b9%80%e0%b8%99%e0%b8%b4%e0%b8%99-8/
ATTACH;FMTTYPE=image/jpeg:https://phutsc.com/wp-content/uploads/2023/04/default_featured_news2.jpg
END:VEVENT
BEGIN:VEVENT
DTSTART;TZID=Asia/Krasnoyarsk:20250826T133000
DTEND;TZID=Asia/Krasnoyarsk:20250826T163000
DTSTAMP:20260422T191424
CREATED:20250729T011929Z
LAST-MODIFIED:20250729T011944Z
UID:2183-1756215000-1756225800@phutsc.com
SUMMARY:ประชุมคณะกรรมการดำเนินการสหกรณ์ออมทรัพย์ชาวพฤหัสบดี จำกัด ชุดที่ 50 ครั้งที่ 7/2568
DESCRIPTION:
URL:https://phutsc.com/event/%e0%b8%9b%e0%b8%a3%e0%b8%b0%e0%b8%8a%e0%b8%b8%e0%b8%a1%e0%b8%84%e0%b8%93%e0%b8%b0%e0%b8%81%e0%b8%a3%e0%b8%a3%e0%b8%a1%e0%b8%81%e0%b8%b2%e0%b8%a3%e0%b8%94%e0%b8%b3%e0%b9%80%e0%b8%99%e0%b8%b4%e0%b8%99-7/
CATEGORIES:Meeting
ATTACH;FMTTYPE=image/jpeg:https://phutsc.com/wp-content/uploads/2023/04/default_featured_news2.jpg
END:VEVENT
BEGIN:VEVENT
DTSTART;TZID=Asia/Krasnoyarsk:20250728T130000
DTEND;TZID=Asia/Krasnoyarsk:20250728T150000
DTSTAMP:20260422T191424
CREATED:20250626T060627Z
LAST-MODIFIED:20250729T012152Z
UID:2172-1753707600-1753714800@phutsc.com
SUMMARY:ประชุมคณะกรรมการดำเนินการสหกรณ์ออมทรัพย์ชาวพฤหัสบดี จำกัด ชุดที่ 50 ครั้งที่ 6/2568
DESCRIPTION:
URL:https://phutsc.com/event/%e0%b8%9b%e0%b8%a3%e0%b8%b0%e0%b8%8a%e0%b8%b8%e0%b8%a1%e0%b8%84%e0%b8%93%e0%b8%b0%e0%b8%81%e0%b8%a3%e0%b8%a3%e0%b8%a1%e0%b8%81%e0%b8%b2%e0%b8%a3%e0%b8%94%e0%b8%b3%e0%b9%80%e0%b8%99%e0%b8%b4%e0%b8%99-6/
CATEGORIES:Meeting
ATTACH;FMTTYPE=image/jpeg:https://phutsc.com/wp-content/uploads/2023/04/default_featured_news2.jpg
END:VEVENT
BEGIN:VEVENT
DTSTART;TZID=Asia/Krasnoyarsk:20250625T093000
DTEND;TZID=Asia/Krasnoyarsk:20250625T120000
DTSTAMP:20260422T191424
CREATED:20250626T060210Z
LAST-MODIFIED:20250626T060224Z
UID:2170-1750843800-1750852800@phutsc.com
SUMMARY:ประชุมคณะกรรมการดำเนินการสหกรณ์ออมทรัพย์ชาวพฤหัสบดี จำกัด ชุดที่ 50 ครั้งที่ 5/2568
DESCRIPTION:
URL:https://phutsc.com/event/%e0%b8%9b%e0%b8%a3%e0%b8%b0%e0%b8%8a%e0%b8%b8%e0%b8%a1%e0%b8%84%e0%b8%93%e0%b8%b0%e0%b8%81%e0%b8%a3%e0%b8%a3%e0%b8%a1%e0%b8%81%e0%b8%b2%e0%b8%a3%e0%b8%94%e0%b8%b3%e0%b9%80%e0%b8%99%e0%b8%b4%e0%b8%99-5/
ATTACH;FMTTYPE=image/jpeg:https://phutsc.com/wp-content/uploads/2023/04/default_featured_news2.jpg
END:VEVENT
BEGIN:VEVENT
DTSTART;TZID=Asia/Krasnoyarsk:20250527T133000
DTEND;TZID=Asia/Krasnoyarsk:20250527T163000
DTSTAMP:20260422T191424
CREATED:20250626T055943Z
LAST-MODIFIED:20250626T055959Z
UID:2168-1748352600-1748363400@phutsc.com
SUMMARY:ประชุมคณะกรรมการดำเนินการสหกรณ์ออมทรัพย์ชาวพฤหัสบดี จำกัด ชุดที่ 50 ครั้งที่ 4/2568
DESCRIPTION:
URL:https://phutsc.com/event/%e0%b8%9b%e0%b8%a3%e0%b8%b0%e0%b8%8a%e0%b8%b8%e0%b8%a1%e0%b8%84%e0%b8%93%e0%b8%b0%e0%b8%81%e0%b8%a3%e0%b8%a3%e0%b8%a1%e0%b8%81%e0%b8%b2%e0%b8%a3%e0%b8%94%e0%b8%b3%e0%b9%80%e0%b8%99%e0%b8%b4%e0%b8%99-4/
ATTACH;FMTTYPE=image/jpeg:https://phutsc.com/wp-content/uploads/2023/04/default_featured_news2.jpg
END:VEVENT
BEGIN:VEVENT
DTSTART;TZID=Asia/Krasnoyarsk:20250428T133000
DTEND;TZID=Asia/Krasnoyarsk:20250428T163000
DTSTAMP:20260422T191424
CREATED:20250430T071158Z
LAST-MODIFIED:20250430T071215Z
UID:2150-1745847000-1745857800@phutsc.com
SUMMARY:ประชุมคณะกรรมการดำเนินการสหกรณ์ออมทรัพย์ชาวพฤหัสบดี จำกัด  ชุดที่ 50 ครั้งที่ 3/2568
DESCRIPTION:
URL:https://phutsc.com/event/%e0%b8%9b%e0%b8%a3%e0%b8%b0%e0%b8%8a%e0%b8%b8%e0%b8%a1%e0%b8%84%e0%b8%93%e0%b8%b0%e0%b8%81%e0%b8%a3%e0%b8%a3%e0%b8%a1%e0%b8%81%e0%b8%b2%e0%b8%a3%e0%b8%94%e0%b8%b3%e0%b9%80%e0%b8%99%e0%b8%b4%e0%b8%99-3/
CATEGORIES:Meeting,ประชุมประจำเดือน
ATTACH;FMTTYPE=image/jpeg:https://phutsc.com/wp-content/uploads/2023/04/default_featured_news2.jpg
END:VEVENT
BEGIN:VEVENT
DTSTART;TZID=Asia/Krasnoyarsk:20250407T083000
DTEND;TZID=Asia/Krasnoyarsk:20250407T113000
DTSTAMP:20260422T191424
CREATED:20250430T070959Z
LAST-MODIFIED:20250430T071410Z
UID:2148-1744014600-1744025400@phutsc.com
SUMMARY:ประชุมคณะกรรมการดำเนินการสหกรณ์ออมทรัพย์ชาวพฤหัสบดี จำกัด  ชุดที่ 50 ครั้งที่ 2/2568
DESCRIPTION:
URL:https://phutsc.com/event/%e0%b8%9b%e0%b8%a3%e0%b8%b0%e0%b8%8a%e0%b8%b8%e0%b8%a1%e0%b8%84%e0%b8%93%e0%b8%b0%e0%b8%81%e0%b8%a3%e0%b8%a3%e0%b8%a1%e0%b8%81%e0%b8%b2%e0%b8%a3%e0%b8%94%e0%b8%b3%e0%b9%80%e0%b8%99%e0%b8%b4%e0%b8%99-2/
CATEGORIES:Meeting,ประชุมประจำเดือน
ATTACH;FMTTYPE=image/jpeg:https://phutsc.com/wp-content/uploads/2023/04/default_featured_news2.jpg
END:VEVENT
BEGIN:VEVENT
DTSTART;TZID=Asia/Krasnoyarsk:20250326T133000
DTEND;TZID=Asia/Krasnoyarsk:20250326T163000
DTSTAMP:20260422T191424
CREATED:20250430T070540Z
LAST-MODIFIED:20250430T070817Z
UID:2145-1742995800-1743006600@phutsc.com
SUMMARY:ประชุมคณะกรรมการดำเนินการสหกรณ์ออมทรัพย์ชาวพฤหัสบดี จำกัด  ชุดที่ 50 ครั้งที่ 1/2568
DESCRIPTION:
URL:https://phutsc.com/event/%e0%b8%9b%e0%b8%a3%e0%b8%b0%e0%b8%8a%e0%b8%b8%e0%b8%a1%e0%b8%84%e0%b8%93%e0%b8%b0%e0%b8%81%e0%b8%a3%e0%b8%a3%e0%b8%a1%e0%b8%81%e0%b8%b2%e0%b8%a3%e0%b8%94%e0%b8%b3%e0%b9%80%e0%b8%99%e0%b8%b4%e0%b8%99/
CATEGORIES:Meeting,ประชุมประจำเดือน
ATTACH;FMTTYPE=image/jpeg:https://phutsc.com/wp-content/uploads/2023/04/default_featured_news2.jpg
END:VEVENT
BEGIN:VEVENT
DTSTART;TZID=Asia/Krasnoyarsk:20240426T150000
DTEND;TZID=Asia/Krasnoyarsk:20240426T173000
DTSTAMP:20260422T191424
CREATED:20240402T090629Z
LAST-MODIFIED:20240402T091200Z
UID:1917-1714143600-1714152600@phutsc.com
SUMMARY:ประชุมสหกรณ์ประจำเดือนเมษายน 2567
DESCRIPTION:
URL:https://phutsc.com/event/%e0%b8%9b%e0%b8%a3%e0%b8%b0%e0%b8%8a%e0%b8%b8%e0%b8%a1%e0%b8%9b%e0%b8%a3%e0%b8%b0%e0%b8%88%e0%b8%b3%e0%b9%80%e0%b8%94%e0%b8%b7%e0%b8%ad%e0%b8%99%e0%b9%80%e0%b8%a1%e0%b8%a9%e0%b8%b2%e0%b8%a2%e0%b8%99-2/
CATEGORIES:Meeting,ประชุมประจำเดือน
ATTACH;FMTTYPE=image/jpeg:https://phutsc.com/wp-content/uploads/2023/04/default_featured_news2.jpg
END:VEVENT
BEGIN:VEVENT
DTSTART;TZID=Asia/Krasnoyarsk:20230526T100000
DTEND;TZID=Asia/Krasnoyarsk:20230526T120000
DTSTAMP:20260422T191424
CREATED:20230421T074612Z
LAST-MODIFIED:20230421T074612Z
UID:1782-1685095200-1685102400@phutsc.com
SUMMARY:ประชุมสหกรณ์ประจำเดือนพฤษภาคม 2566
DESCRIPTION:าดกเาดก่เดก่เากด่เวกดาส่หเวกดาเ่กดาเ่กดาเ่หกาสด่เาสกดห่เว
URL:https://phutsc.com/event/%e0%b8%9b%e0%b8%a3%e0%b8%b0%e0%b8%8a%e0%b8%b8%e0%b8%a1%e0%b8%aa%e0%b8%ab%e0%b8%81%e0%b8%a3%e0%b8%93%e0%b9%8c%e0%b8%9b%e0%b8%a3%e0%b8%b0%e0%b8%88%e0%b8%b3%e0%b9%80%e0%b8%94%e0%b8%b7%e0%b8%ad%e0%b8%99-3/
CATEGORIES:Meeting,ประชุมประจำเดือน
ATTACH;FMTTYPE=image/jpeg:https://phutsc.com/wp-content/uploads/2023/04/default_featured_news2.jpg
END:VEVENT
BEGIN:VEVENT
DTSTART;TZID=Asia/Krasnoyarsk:20230425T080000
DTEND;TZID=Asia/Krasnoyarsk:20230425T170000
DTSTAMP:20260422T191424
CREATED:20230411T043027Z
LAST-MODIFIED:20230420T190602Z
UID:1426-1682409600-1682442000@phutsc.com
SUMMARY:ประชุมสหกรณ์ประจำเดือนเมษายน2566
DESCRIPTION:
URL:https://phutsc.com/event/meetingapril2023/
CATEGORIES:Meeting
ATTACH;FMTTYPE=image/jpeg:https://phutsc.com/wp-content/uploads/2023/04/default_featured_news2.jpg
END:VEVENT
BEGIN:VEVENT
DTSTART;TZID=Asia/Krasnoyarsk:20230324T160000
DTEND;TZID=Asia/Krasnoyarsk:20230324T210000
DTSTAMP:20260422T191424
CREATED:20230223T002421Z
LAST-MODIFIED:20230411T041617Z
UID:1328-1679673600-1679691600@phutsc.com
SUMMARY:ประชุมสหกรณ์ประจำเดือนมีนาคม 2566
DESCRIPTION:ประชุมสหกรณ์ประจำเดือนมีนาคม 2566
URL:https://phutsc.com/event/%e0%b8%9b%e0%b8%a3%e0%b8%b0%e0%b8%8a%e0%b8%b8%e0%b8%a1%e0%b8%aa%e0%b8%ab%e0%b8%81%e0%b8%a3%e0%b8%93%e0%b9%8c%e0%b8%9b%e0%b8%a3%e0%b8%b0%e0%b8%88%e0%b8%b3%e0%b9%80%e0%b8%94%e0%b8%b7%e0%b8%ad%e0%b8%99-2/
CATEGORIES:Meeting
ATTACH;FMTTYPE=image/jpeg:https://phutsc.com/wp-content/uploads/2023/04/default_featured_news2.jpg
END:VEVENT
BEGIN:VEVENT
DTSTART;TZID=Asia/Krasnoyarsk:20230220T160000
DTEND;TZID=Asia/Krasnoyarsk:20230220T190000
DTSTAMP:20260422T191424
CREATED:20230223T002325Z
LAST-MODIFIED:20230411T041618Z
UID:1326-1676908800-1676919600@phutsc.com
SUMMARY:ประชุมสหกรณ์ประจำเดือนกุมภาพันธ์ 2566
DESCRIPTION:ประชุมสหกรณ์ประจำเดือนกุมภาพันธ์ 2566
URL:https://phutsc.com/event/%e0%b8%9b%e0%b8%a3%e0%b8%b0%e0%b8%8a%e0%b8%b8%e0%b8%a1%e0%b8%aa%e0%b8%ab%e0%b8%81%e0%b8%a3%e0%b8%93%e0%b9%8c%e0%b8%9b%e0%b8%a3%e0%b8%b0%e0%b8%88%e0%b8%b3%e0%b9%80%e0%b8%94%e0%b8%b7%e0%b8%ad%e0%b8%99/
CATEGORIES:Meeting
ATTACH;FMTTYPE=image/jpeg:https://phutsc.com/wp-content/uploads/2023/04/default_featured_news2.jpg
END:VEVENT
END:VCALENDAR